BEGIN:VCALENDAR
VERSION:2.0
PRODID:-//casatnvalley.org//NONSGML kigkonsult.se iCalcreator 2.30.10//
CALSCALE:GREGORIAN
METHOD:PUBLISH
UID:ca66f36b-bac5-4310-87e0-02d172bd4678
X-WR-CALDESC:
X-WR-RELCALID:739a849d4b75d5ad2b18b6e5597c171f
X-WR-TIMEZONE:America/Chicago
BEGIN:VTIMEZONE
TZID:America/Chicago
BEGIN:STANDARD
TZNAME:CST
DTSTART:20251102T020000
TZOFFSETFROM:-0500
TZOFFSETTO:-0600
RDATE:20261101T020000
RDATE:20271107T020000
END:STANDARD
BEGIN:DAYLIGHT
TZNAME:CDT
DTSTART:20260308T020000
TZOFFSETFROM:-0600
TZOFFSETTO:-0500
RDATE:20270314T020000
END:DAYLIGHT
END:VTIMEZONE
BEGIN:VEVENT
UID:73ccfbdd-0015-48cb-a891-bc270d61d3e7
DTSTAMP:20260419T115909Z
DESCRIPTION:
DTSTART;TZID=America/Chicago:20260618T170000
DTEND;TZID=America/Chicago:20260618T200000
LOCATION:1241 River Cliff Way\, Sparta\, TN 38583 US
SUMMARY:Denim & Diamonds 'Let's Shine for the Kids'
END:VEVENT
END:VCALENDAR
